
BEGIN:VCALENDAR
METHOD:PUBLISH
CALSCALE:GREGORIAN
PRODID:Wiener Philharmoniker
VERSION:2.0
BEGIN:VTIMEZONE
TZID:Europe/Berlin
BEGIN:DAYLIGHT
DTSTART:20070311T020000
TZOFFSETFROM:+0100
TZOFFSETTO:+0200
TZNAME:CET
END:DAYLIGHT
BEGIN:STANDARD
DTSTART:20071104T020000
TZOFFSETFROM:+0200
TZOFFSETTO:+0100
TZNAME:CEST
END:STANDARD
END:VTIMEZONE
BEGIN:VEVENT
DTSTAMP:20260420T173000
DTSTART:20260619T204500
DTEND:20260619T231500
LOCATION:Schloss Schönbrunn
SUMMARY:Sommernachtskonzert 2026
DESCRIPTION:None
UID:event10939@wienerphilharmoniker.at
URL:www.wienerphilharmoniker.at/de/konzerte/sommernachtskonzert-2026/10939/
END:VEVENT
END:VCALENDAR


        